Workbook

Sheet Instructions
C1: Project Application Workbook for CMAQ, TAP-L and STP Shared Fund Applications
B3: All STP, CMAQ, and TAP-L applicants should fill out the project specific worksheets found in this workbook. See the project lists below for common project types and the corresponding worksheet(s).
B4: • Instructions for the individual worksheets can be found on those worksheets. • Each application must include one, and only one, copy of the workbook (except as noted below for staged construction). • All applicants, regardless of fund source, must complete the Preliminary Engineering - All worksheet. • Clicking on the project type link below (CMAQ and TAP-L) will open the corresponding benefits worksheet. • For STP shared fund projects proposing staged construction, one copy of the workbook must be completed for each stage that will be scored separately, in addition to one copy of the workbook for the entire project. • In addition to the project type specific worksheets, all STP shared fund applicants must also complete the All STP Projects worksheet. • When finished, attach the entire workbook as an Excel file to the corresponding eTIP application on the Documents tabs. Do not save it as a PDF document. • Yellow tabs are for CMAQ and TAP projects only, orange tabs are STP shared fund projects only, green tabs are for all fund sources. On green tabs, question headers are also color-coded according to fund source(s). • Responses go in the light green cells only. • Be sure to scroll all the way to the bottom of each worksheet. The worksheet is complete when you reach the red "THIS WORKSHEET ENDS HERE" row.
B6: CMAQ and TAP Project Types | F6: STP Shared Fund Project Types
B7: Project Type | C7: Benefits Worksheet | D7: Fund(s) | F7: Project Type | G7: Example project scope elements | H7: Required worksheets | I7: Optional worksheet
B8: Access to Transit | C8: Transit Projects | D8: CMAQ (See also STP Transit Station, Yard, & Terminal Imps) | F8: Bicycle and Pedestrian Barrier Elimination | G8: · Bicycle/pedestrian overpass | H8: Preliminary Engineering - All; All STP Projects; Bike Ped Barrier Elimination | I8: Safety
B9: Adaptive Signal Control | C9: Signal Interconnects and Safety | D9: CMAQ | G9: · Bicycle/pedestrian underpass
B10: Alternative Fuel | C10: Direct Emissions Reduction | D10: CMAQ | G10: · New multi-use path/trail that eliminates/avoids barrier
B11: Bicycle Bridge | C11: Bicycle Facility Projects | D11: CMAQ andTAP (See also STP Bicycle/Pedestrian Barrier Elimination)
B12: Bike Lane | C12: Bicycle Facility Projects | D12: CMAQ and TAP | F12: Bus Speed Improvements | G12: · BRT/ART route construction (stops, pull outs, separators, etc.) | H12: Preliminary Engineering - All; All STP Projects; Transit Projects | I12: Safety
B13: Bike Parking at Transit | C13: Transit Projects | D13: CMAQ (See also STP Transit Station, Yard, & Terminal Imps)
B14: Bike Path | C14: Bicycle Facility Projects | D14: CMAQ and TAP (See also STP Bicycle/Pedestrian Barrier Elimination) | G14: · Transit Signal Priority (TSP) and other ITS
B15: Bike Sharing | C15: Other Projects | D15: CMAQ | G15: · Bus-only travel lanes
B16: Bus Speed Improvements | C16: Transit Projects | D16: CMAQ (See also STP Bus Speed Improvements) | F16: Bridge Rehabilitation or Reconstruction | G16: · Bridge replacement | H16: Preliminary Engineering - All;All STP Projects; Bridge Projects | I16: Safety
B17: Commuter Parking | C17: Transit Projects | D17: CMAQ | G17: · Deck replacement
B18: Continuous Left Turn Lane | C18: Road Projects and Safety | D18: CMAQ (See also STP Road Reconstruction or Road Expansion) | G18: · Superstructure rehab/reconstruct
B19: Curb Cut Elimination | C19: Road Projects and Safety | D19: CMAQ | G19: · Substructure rehab/reconstruct
B20: Diesel Engine Retrofits | C20: Direct Emissions Reduction | D20: CMAQ | F20: Highway/Rail Grade Crossing Improvements | G20: · Grade separation | H20: Preliminary Engineering - All;All STP Projects; Rail-Hwy Crossings | I20: Safety
B21: Electric Infrastructure | C21: Direct Emissions Reduction | D21: CMAQ | G21: · Other crossing improvements
B22: Electric Vehicles | C22: Direct Emissions Reduction | D22: CMAQ
B23: Highway/Rail Grade Separations | C23: Road Projects and Safety | D23: CMAQ (See also STP Highway/Rail Grade Crossing Improvements)
B24: Intersection Improvements | C24: Road Projects and Safety | D24: CMAQ (See also STP Road Reconstruction or Road Expansion) | F24: Road Reconstruction | G24: · Reconstruction of roadway | H24: Preliminary Engineering - All; All STP Projects; Road Projects | I24: Safety
B25: ITS Projects | C25: Other Projects | D25: CMAQ
B26: Locomotive Retrofits/Repowers | C26: Direct Emissions Reduction | D26: CMAQ
B27: Marketing Program | C27: Other Projects | D27: CMAQ
B28: New Transit Service | C28: Transit Projects | D28: CMAQ | F28: Road Expansion | G28: · Additional through lanes | H28: Preliminary Engineering - All; All STP Projects; Road Projects | I28: Safety
B29: Pedestrian around transit | C29: Transit Projects | D29: CMAQ | G29: · New/extended road
B30: Signal Interconnect | C30: Signal Interconnects | D30: CMAQ | G30: · New interchange
B31: Station Improvements | C31: Transit Projects | D31: CMAQ (See also STP Transit Station, Yard, & Terminal Imps) | G31: · New ramps (additional movements)
B32: TMA Programs | C32: Other Projects | D32: CMAQ | F32: Corridor or Small Area Safety | G32: · Safety countermeasures that are appropriate for the crash type(s) in the project corridor/area | H32: Preliminary Engineering - All; All STP Projects; Safety
B33: Traffic Management Center | C33: Other Projects | D33: CMAQ
B34: Turn Lanes | C34: Road Projects and Safety | D34: CMAQ (See also STP Road Recon., Road Expansion, or Safety) | G34: · Intersection improvement (turn lanes, etc.)
B35: Vehicle Replacements | C35: Direct Emissions Reduction | D35: CMAQ | G35: · Traffic signal modifications
B36: Vehicle Repowers | C36: Direct Emissions Reduction | D36: CMAQ | F36: Transit Station, Yard, or Terminal Improvements | G36: · Rehab, repair, or replace station building, boarding platforms, and other station fixtures | H36: Preliminary Engineering - All; All STP Projects; Transit Projects | I36: Safety
G38: · Complete direct connection of sidewalk/bicycle network to station
G40: · Install bike parking or bike-sharing at station
G41: · Improve a commuter rail yard or terminal
G42: · Relocate a commuter rail yard or terminal
F43: Truck Route Improvements | G43: · Intersection reconstruction to improve turn radii, lengthen storage, etc. | H43: Preliminary Engineering - All; All STP Projects; Truck Routes | I43: Safety
G45: · Signal modifications
...

Sheet Summary and Error Checking
B1: Application Summary and Preliminary Error Checking
B3: The information shown here is auto-generated based on your completed workbook and is meant to serve as a preliminary check for errors and omissions. This worksheet was designed to find and flag the most critical errors and omissions that could be cause for disqualifiction of your application or loss of points in the scoring methodologies. This worksheet is an informational tool and will not be utilized in the scoring of your application and should not be interpreted as a guarantee in any way that your application or any part of it, when reviewed alongside your eTIP application and other attachments, is "good", "needs review" or is "incomplete"; These indicators on this worksheet apply only to this workbook and the worksheets within it.
B5: Application Summary Preliminary Error Checking | D5: ü | E5: p | F5: û | H5: HIDE THESE COLUMNS
D6: Good | E6: Needs Review | F6: Incomplete
B7: TIP ID: | C7: =IF('Preliminary Engineering - All'!D5<>"",'Preliminary Engineering - All'!D5,"") | D7: =IF(C7<>"",$D$5,"") | F7: =IF(C7="",$F$5,"") -> û | H7: STP
B8: Project Title: | C8: =IF('Preliminary Engineering - All'!D6<>"",'Preliminary Engineering - All'!D6,"") | D8: =IF(C8<>"",$D$5,"") | F8: =IF(C8="",$F$5,"") -> û | H8: =IF(OR('All STP Projects'!M22=TRUE,'All STP Projects'!M23=TRUE,'All STP Projects'!M24=TRUE,'All STP Projects'!M25=TRUE,'All STP Projects'!M26=TRUE,'All STP Projects'!N22=TRUE,'All STP Projects'!N23=TRUE,'All STP Projects'!N24=TRUE,'All STP Projects'!N25=TRUE),"STP Shared Fund",H23) -> TBD | L8: Prelim Eng
B10: Apparent funding request: | C10: =H8 -> TBD | D10: =IF(OR(C10="TBD",C10="Unclear"),"",D5) | E10: =IF(C10="Unclear",E5,"") | F10: =IF(C10="TBD",F5,"") -> û | H10: =IF(H8="STP Shared Fund", 'All STP Projects'!M20,IF('Bicycle Facility Projects'!D5<>"","Bicycle Facility",IF('Demonstration Projects'!D5<>"","Demonstration",IF('Direct Emissions Reductions'!F5<>"","Direct Emissions Reduction",IF('Other Projects'!D4<>"","Other", IF(OR('Road Projects'!M25=TRUE,'Road Projects'!M26=TRUE,'Road Projects'!M27=TRUE,'Road Projects'!M28=TRUE,'Road Projects'!M29=TRUE,'Road Projects'!M30=TRUE),"Bottleneck Elimination",IF(OR('Road Projects'!M19=TRUE,'Road Projects'!M20=TRUE,'Road Projects'!M21=TRUE,'Road Projects'!M22=TRUE,'Road Projects'!M23=TRUE),"Intersection Improvement",IF('Signal Interconnects'!D5<>"","Signal Interconnect",H13)))))))) -> Unable to determine | L10: =IF('Preliminary Engineering - All'!D9="Pick One",IF('Preliminary Engineering - All'!D22="Pick One","Not Provided","Transit"),"Highway") -> Not Provided
B11: Apparent project type: | C11: =IF(H10="TBD",IF(H24="Unclear","Unclear",H24),H10) -> Unable to determine | D11: =IF(OR(C11="Multiple",C11="Unclear", C11="Unable to determine"),"",D5) | E11: =IF(C11="Multiple",E5,"") | F11: =IF(OR(C11="Unclear",C11="Unable to determine"),F5,"") -> û | H11: CMAQ/TAP | L11: =IF(L10="Highway",'Preliminary Engineering - All'!D9,IF(L10="Transit",'Preliminary Engineering - All'!D22,"Not Provided")) -> Not Provided
B13: Preliminary Engineering status: | C13: =L11 -> Not Provided | D13: =IF(C13<>"Not Provided",D5,"") | F13: =IF(C13="Not Provided",F5,"") -> û | H13: =IF('Transit Projects'!D7="CMAQ: Facility improvement","Transit Facility Improvement",IF('Transit Projects'!D7="CMAQ: Service and Equipment","Transit Service and Equipment",IF('Transit Projects'!D7="CMAQ: Access to Transit","Access to Transit",IF('Transit Projects'!D7="Application is for both CMAQ and/or STP-SF","Transit","Unable to determine")))) -> Unable to determine | L13: STP Min Acc
B14: Based on the above status, the project is presumed to be eligible to request funding for these phases: | C14: =IF(C13="Not Provided","Unable to determine status",IF(OR(L11="Complete",L11="Nearly Complete"),"Design (Phase 2) Engineering, Land Acquisition, and Construction/CE",IF(L11="Substantially Complete","Land Acquisition and Construction/CE",IF(L11="Underway","Construction/CE",IF(L11="Not Started","Only Preliminary (Phase 1) Engineering is eligible for funding if the applicant is a Cohort 4 community or the project is wholly located within a Cohort 4 community (see application booklet for details).",IF(L11="N/A", "Unable to determine status.")))))) -> Unable to determine status | D14: =IF(D13=D5,D5,"") | F14: =IF(F13=F5,F5,"") -> û | H14: =IF('Bicycle Facility Projects'!D10="Pick One","next","Bicycle Facility") -> next | I14: bike | L14: =IF(COUNTIF('All STP Projects'!D33:K33,">0")>0,"yes","no") -> no
H15: =IF('Demonstration Projects'!D9="","next","Demonstration") -> next | I15: demo
B16: STP Projects | H16: =IF('Direct Emissions Reductions'!F9="","next","Direct Emissions Reduction") -> next | I16: dir emiss | L16: =IF(COUNTIF('All STP Projects'!M39:M41,"true")<3,"Did not acknowledge","ok") -> Did not acknowledge
B17: =IF(C10<>"STP Shared Fund","N/A",IF('All STP Projects'!D9=1,"The project is eligible if the total project cost (all phases/fund sources) is greater than $5 million.",IF('All STP Projects'!D9="Pick one","Please complete question 3 on the All STP Projects worksheet to determine eligibility","The project appears to be eligible, based on participation of multiple partners."))) -> N/A | D17: =IF(C10<>"STP Shared Fund","",IF('All STP Projects'!D9=1,D5,IF('All STP Projects'!D9="Pick one","",D5))) | F17: =IF(C10<>"STP Shared Fund","",IF('All STP Projects'!D9=1,"",IF('All STP Projects'!D9="Pick one",F5,""))) | H17: =IF('Other Projects'!D6="","next","Other CMAQ") -> next | I17: other | L17: =IF(L16="ok",IF('All STP Projects'!D35<>"Yes","Did not acknowledge","ok"),"Did not acknowledge") -> Did not acknowledge
B18: =IF(C10<>"STP Shared Fund","N/A",IF(AND('All STP Projects'!D11="Yes/No",'All STP Projects'!D12="Yes/No"),"Please complete question 4 on the All STP Projects worksheet to determine eligibility based on inclusion in plans.",IF(OR('All STP Projects'!D11="Yes",'All STP Projects'!D12="Yes"),"The project appears to be eligilbe based on inclusion in plans.",IF(AND('All STP Projects'!D11="No",'All STP Projects'!D12="No"), "The project appears to be ineligible for STP funding based on inclusion in plans.", IF(AND('All STP Projects'!D11="No",'All STP Projects'!D12="Yes/No"),"Please complete all parts of question 4 on the All STP Projects worksheet to determine eligibility based on inclusion in plans.",IF(AND('All STP Projects'!D11="Yes/No",'All STP Projects'!D12="No"),"Please complete all parts of question 4 on the All STP Projects worksheet to determine eligibility based on inclusion in plans.")))))) -> N/A | D18: =IF(C10<>"STP Shared Fund","",IF(AND('All STP Projects'!D11="Yes/No",'All STP Projects'!D12="Yes/No"),"",IF(OR('All STP Projects'!D11="Yes",'All STP Projects'!D12="Yes"),D5,IF(AND('All STP Projects'!D11="No",'All STP Projects'!D12="No"), "", IF(AND('All STP Projects'!D11="No",'All STP Projects'!D12="Yes/No"),"",IF(AND('All STP Projects'!D11="Yes/No",'All STP Projects'!D12="No"),"")))))) | E18: =IF(C10<>"STP Shared Fund","",IF(AND('All STP Projects'!D11="Yes/No",'All STP Projects'!D12="Yes/No"),"",IF(OR('All STP Projects'!D11="Yes",'All STP Projects'!D12="Yes"),"",IF(AND('All STP Projects'!D11="No",'All STP Projects'!D12="No"), E5, IF(AND('All STP Projects'!D11="No",'All STP Projects'!D12="Yes/No"),"",IF(AND('All STP Projects'!D11="Yes/No",'All STP Projects'!D12="No"),"")))))) | F18: =IF(C10<>"STP Shared Fund","",IF(AND('All STP Projects'!D11="Yes/No",'All STP Projects'!D12="Yes/No"),F5,IF(OR('All STP Projects'!D11="Yes",'All STP Projects'!D12="Yes"),"",IF(AND('All STP Projects'!D11="No",'All STP Projects'!D12="No"), "", IF(AND('All STP Projects'!D11="No",'All STP Projects'!D12="Yes/No"),F5,IF(AND('All STP Projects'!D11="Yes/No",'All STP Projects'!D12="No"),F5)))))) | H18: =IF(OR('Road Projects'!M19=TRUE,'Road Projects'!M20=TRUE,'Road Projects'!M21=TRUE,'Road Projects'!M22=TRUE,'Road Projects'!M23=TRUE),"Intersection Improvement",IF(OR('Road Projects'!M25=TRUE,'Road Projects'!M26=TRUE,'Road Projects'!M27=TRUE,'Road Projects'!M28=TRUE,'Road Projects'!M29=TRUE,'Road Projects'!M30=TRUE),"Bottleneck Elimination","next")) -> next | I18: int imp or bottleneck
B19: =IF(H8<>"STP Shared Fund","N/A",IF(AND('All STP Projects'!P46=0,'All STP Projects'!P50=0),"It appears that all required and optional questions on the All STP Projects worksheet are complete.",IF(AND('All STP Projects'!P46>0,'All STP Projects'!P50=0),CONCATENATE("Please review the All STP Projects worksheet. It appears that at least ",'All STP Projects'!P46," required questions are incomplete."),IF(AND('All STP Projects'!P46=0,'All STP Projects'!P50>0),CONCATENATE("Please review the All STP Projects worksheet. It appears that ",'All STP Projects'!P50," optional questions are incomplete."),IF(AND('All STP Projects'!P46>0,'All STP Projects'!P50>0),CONCATENATE("Please review the All STP Projects worksheet. It appears that at least ",'All STP Projects'!P46," required questions and ",'All STP Projects'!P50," optional questions are incomplete."),""))))) -> N/A | D19: =IF(AND('All STP Projects'!P46=0,'All STP Projects'!P50=0),D5,"") | E19: =IF(AND('All STP Projects'!P46=0,'All STP Projects'!P50>0),E5,"") | F19: =IF(B19="N/A","",IF('All STP Projects'!P46>0,F5,"")) | H19: =IF('Signal Interconnects'!D9="","next","Signal Interconnect") -> next | I19: signal interconnect
B20: =IF(H8<>"STP Shared Fund","N/A",IF('All STP Projects'!D32="No","You indicated that you cannot accept partial funding for any phase(s) of the project.",IF(AND('All STP Projects'!D32="Yes",L14="no"),"You indicated that you would accept partial funding, but did not indicate the minimum acceptable partial funding amount(s), therefore no partial funding will be considered.",IF(AND('All STP Projects'!D32="Yes",L14="yes",L16<>"ok"),"You indicated that you would accept partial funding, but did not acknowledge all conditions for accepting partial funding. Please complete all sections of question 8 on the All STP Projects worksheet in order to be considered for partial funding.",IF(AND('All STP Projects'!D32="Yes",L14="yes",L17<>"ok"),CONCATENATE("You indicated that you would accept partial funding, ","but did not indicate that you could fill the funding gap with another fund source. ","Please complete all sections of question 8 on the All STP Projects worksheet in order to be considered for partial funding."), IF(AND('All STP Projects'!D32="Yes", L14="yes",L16="ok", L17="ok"),"You indicated that you can accept partial funding for at least one phase of the project and acknowledged all conditions for partial funding.",IF('All STP Projects'!D32="Yes/No","Unable to determine your willingness to accept partial funding.", ""))))))) -> N/A | D20: =IF(AND('All STP Projects'!D32="yes",L14="yes",L16="ok",L17="ok"),D5,"") | E20: =IF('All STP Projects'!D32="No",E5,"") | F20: =IF(B20="N/A","",IF('All STP Projects'!D32="No","",IF(OR('Summary and Error Checking'!L14="No",'Summary and Error Checking'!L16<>"ok",'Summary and Error Checking'!L17<>"ok",'All STP Projects'!D32="Yes/No"),'Summary and Error Checking'!F5,""))) | H20: =IF('Transit Projects'!D12="","next","Transit Service") -> next | I20: transit service
B21: STP Shared Fund Bicycle and Pedestrian Barrier Elimination Projects | H21: =IF('Transit Projects'!D26="","next","Commuter Parking") -> next | I21: commuter parking
B22: =IF(OR('All STP Projects'!M20="Bike/Ped Barrier Elimination",'All STP Projects'!M20="Multiple"),IF(AND('Bike Ped Barrier Elimination'!O73=0,'Bike Ped Barrier Elimination'!O76=0),"It appears that all required and optional questions on the Bike Ped Barrier Elimination worksheet are complete.",IF(AND('Bike Ped Barrier Elimination'!O73>0,'Bike Ped Barrier Elimination'!O76=0),CONCATENATE("Please review the Bike Ped Barrier Elimination worksheet. It appears that at least ",'Bike Ped Barrier Elimination'!O73," required questions are incomplete."),IF(AND('Bike Ped Barrier Elimination'!O73=0,'Bike Ped Barrier Elimination'!O76>0),CONCATENATE("Please review the Bike Ped Barrier Elimination worksheet. It appears that ",'Bike Ped Barrier Elimination'!O76," optional questions may be incomplete."),IF(AND('Bike Ped Barrier Elimination'!O73>0,'Bike Ped Barrier Elimination'!O76>0),CONCATENATE("Please review the Bike Ped Barrier Elimination worksheet. It appears that at least ",'Bike Ped Barrier Elimination'!O73," required questions and ",'Bike Ped Barrier Elimination'!O76," optional questions are incomplete."),"")))),"N/A") -> N/A | D22: =IF(B22="N/A","",IF(AND('Bike Ped Barrier Elimination'!O73=0,'Bike Ped Barrier Elimination'!O76=0),D5,"")) | E22: =IF(B22="N/A","",IF(AND('Bike Ped Barrier Elimination'!O73=0,'Bike Ped Barrier Elimination'!O76=0),"",IF(AND('Bike Ped Barrier Elimination'!O73>0,'Bike Ped Barrier Elimination'!O76=0),"",IF(AND('Bike Ped Barrier Elimination'!O73=0,'Bike Ped Barrier Elimination'!O76>0),E5,"")))) | F22: =IF(B22="N/A","",IF(AND('Bike Ped Barrier Elimination'!O73=0,'Bike Ped Barrier Elimination'!O76=0),"",IF('Bike Ped Barrier Elimination'!O73>0,F5,""))) | H22: =IF('Transit Projects'!C59="","next","Transit Station") -> next | I22: transit station
B23: =IF(OR('All STP Projects'!M20="Bike/Ped Barrier Elimination",'All STP Projects'!M20="Multiple"),IF(AND('Bike Ped Barrier Elimination'!D55="",'Bike Ped Barrier Elimination'!D59="",'Bike Ped Barrier Elimination'!D62=""),"You must identify the railroad (question 11), road (question 12), or water (question 13) barrier that will be eliminated by the project. Projects in this catergory that do not eliminate a barrier are not eligible for funding consideration.","You have identified at least one barrier to be eliminated by the project."),"N/A") -> N/A | D23: =IF(B22="N/A","",IF(OR('Bike Ped Barrier Elimination'!D55<>"",'Bike Ped Barrier Elimination'!D59<>"",'Bike Ped Barrier Elimination'!D62<>""),D5,"")) | F23: =IF(B22="N/A","",IF(AND('Bike Ped Barrier Elimination'!D55="",'Bike Ped Barrier Elimination'!D59="",'Bike Ped Barrier Elimination'!D62=""),F5,"")) | H23: =IF(OR(H14<>"next", H15<>"next",H16<>"next",H17<>"next",H18<>"next",H19<>"next",H20<>"next",H21<>"next",H22<>"next"),"CMAQ/TAP-L","TBD") -> TBD
B24: STP Shared Fund Bus Speed Improvement Projects | H24: =IF(H14<>"next",H14,IF(H15<>"next",H15,IF(H16<>"next",H16,IF(H17<>"next",H17,IF(H18<>"next",H18,IF(H19<>"next",H19,IF(H20<>"next",H20,IF(H21<>"next",H21,IF(H22<>"next",H22,"Unclear"))))))))) -> Unclear
B25: =IF(OR('All STP Projects'!M20="Bus Speed Improvements",'All STP Projects'!M20="Multiple"),IF(AND('Transit Projects'!U172,'Transit Projects'!U176=0),"It appears that all required and optional questions on the Transit Projects worksheet are complete.",IF(AND('Transit Projects'!U172>0,'Transit Projects'!U176=0),CONCATENATE("Please review the Transit Projects worksheet. It appears that at least ",'Transit Projects'!U172," required questions for this project type are incomplete."),IF(AND('Transit Projects'!U172=0,'Transit Projects'!U176>0),CONCATENATE("Please review the Transit Projects worksheet. It appears that ",'Transit Projects'!U176," optional questions for this project types may be incomplete."),IF(AND('Transit Projects'!U172>0,'Transit Projects'!U176>0),CONCATENATE("Please review the Transit Projects worksheet. It appears that at least ",'Transit Projects'!U172," required questions and ",'Transit Projects'!U176," optional questions for this project type are incomplete."),"")))),"N/A") -> N/A | D25: =IF(B25="N/A","",IF(AND('Transit Projects'!U172=0,'Transit Projects'!U176=0),D5,"")) | E25: =IF(B25="N/A","",IF(AND('Transit Projects'!U172=0,'Transit Projects'!U176=0),"",IF(AND('Transit Projects'!U172>0,'Transit Projects'!U176=0),"",IF(AND('Transit Projects'!U172=0,'Transit Projects'!U176>0),E5,"")))) | F25: =IF(B25="N/A","",IF(AND('Transit Projects'!U172=0,'Transit Projects'!U176=0),"",IF('Transit Projects'!U172>0,F5,"")))
B26: =IF(OR('All STP Projects'!M20="Bus Speed Improvements",'All STP Projects'!M20="Multiple"),IF('Transit Projects'!T12=1,"You must provide at least one bus route in order to be considered for funding in this category.","You have identified at least one bus route to be improved by this project."),"N/A") -> N/A | D26: =IF(B26="N/A","",IF('Transit Projects'!T12<>1,D5,"")) | F26: =IF(B26="N/A","",IF('Transit Projects'!T12=1,F5,""))
B27: =IF(OR('All STP Projects'!M20="Bus Speed Improvements",'All STP Projects'!M20="Multiple"),IF('Transit Projects'!T10="not eligible","It appears that the project may be ineligible because all bus routes have current on-time percentages of 90% or higher.","The project appears to be eligible based on the current on-time performance percentages provided."),"N/A") -> N/A | D27: =IF(B26="N/A","",IF('Transit Projects'!T10="eligible",D5,"")) | F27: =IF(B26="N/A","",IF('Transit Projects'!T10="not eligible",F5,""))
B28: STP Shared Fund Bridge Rehabilitation or Reconstruction Projects
B29: =IF(OR('All STP Projects'!M20="Bridge",'All STP Projects'!M20="Multiple"),IF(AND('Bridge Projects'!O79=0,'Bridge Projects'!O83=0),"It appears that all required and optional questions on the Bridge Projects worksheet are complete.",IF(AND('Bridge Projects'!O79>0,'Bridge Projects'!O83=0),CONCATENATE("Please review the Bridge Projects worksheet. It appears that at least ",'Bridge Projects'!O79," required questions are incomplete."),IF(AND('Bridge Projects'!O79=0,'Bridge Projects'!O83>0),CONCATENATE("Please review the Bridge Projects worksheet. It appears that ",'Bridge Projects'!O83," optional questions may be incomplete."),IF(AND('Bridge Projects'!O79>0,'Bridge Projects'!O83>0),CONCATENATE("Please review the Bridge Projects worksheet. It appears that at least ",'Bridge Projects'!O79," required questions and ",'Bridge Projects'!O83," optional questions are incomplete."),"")))),"N/A") -> N/A | D29: =IF(B29="N/A","",IF(AND('Bridge Projects'!O79=0,'Bridge Projects'!O83=0),D5,"")) | E29: =IF(B29="N/A","",IF(AND('Bridge Projects'!O79=0,'Bridge Projects'!O83=0),"",IF(AND('Bridge Projects'!O79>0,'Bridge Projects'!O83=0),"",IF(AND('Bridge Projects'!O79=0,'Bridge Projects'!O83>0),E5,"")))) | F29: =IF(B29="N/A","",IF(AND('Bridge Projects'!O79=0,'Bridge Projects'!O83=0),"",IF('Bridge Projects'!O79>0,F8,"")))
B30: =IF(OR('All STP Projects'!M20="Bridge",'All STP Projects'!M20="Multiple"),IF(AND('Bridge Projects'!D54="",'Bridge Projects'!E53="",'Bridge Projects'!F53="",'Bridge Projects'!G53="",'Bridge Projects'!H53="",'Bridge Projects'!I53=""),"You must provide at least one NBI Structure Number in order to be considered for funding in this category.","You have identified at least one NBI Structure to be improved by this project."),"N/A") -> N/A | D30: =IF(B30="N/A","",IF(OR('Bridge Projects'!D54<>"",'Bridge Projects'!E53<>"",'Bridge Projects'!F53<>"",'Bridge Projects'!G53<>"",'Bridge Projects'!H53<>"",'Bridge Projects'!I53<>""),D5,"")) | F30: =IF(B30="N/A","",IF(AND('Bridge Projects'!D54="",'Bridge Projects'!E53="",'Bridge Projects'!F53="",'Bridge Projects'!G53="",'Bridge Projects'!H53="",'Bridge Projects'!I53=""),F5,""))
B31: =IF(OR('All STP Projects'!M20="Bridge",'All STP Projects'!M20="Multiple"),IF('Bridge Projects'!T54>80,"The project appears to be ineligible, based on the average sufficiency rating being greater than 80.",IF('Bridge Projects'!T54=0,"Eligibility cannot be determined because sufficiency ratings were not provided.","The project appears to be eligible based on the average sufficiency rating being 80 or less.")),"N/A") -> N/A | D31: =IF(B31="N/A","",IF(AND('Bridge Projects'!T54<>0,'Bridge Projects'!T54<=80),D5,"")) | E31: =IF(B31="N/A","",IF('Bridge Projects'!T54=0,E5,"")) | F31: =IF(B31="N/A","",IF('Bridge Projects'!T54>80,F5,""))
B32: STP Shared Fund Highway/Rail Grade Crossing Improvement Projects
B33: =IF(OR('All STP Projects'!M20="Hwy-Rail Grade Crossing",'All STP Projects'!M20="Multiple"),IF(AND('Rail-Hwy Crossings'!O63=0,'Rail-Hwy Crossings'!O67=0),"It appears that all required and optional questions on the Rail-Hwy Crossings worksheet are complete.",IF(AND('Rail-Hwy Crossings'!O63>0,'Rail-Hwy Crossings'!O67=0),CONCATENATE("Please review the Rail-Hwy Crossings worksheet. It appears that at least ",'Rail-Hwy Crossings'!O63," required questions are incomplete."),IF(AND('Rail-Hwy Crossings'!O63=0,'Rail-Hwy Crossings'!O67>0),CONCATENATE("Please review the Rail-Hwy Crossings worksheet. It appears that ",'Rail-Hwy Crossings'!O67," optional questions may be incomplete."),IF(AND('Rail-Hwy Crossings'!O63>0,'Rail-Hwy Crossings'!O67>0),CONCATENATE("Please review the Rail-Hwy Crossings worksheet. It appears that at least ",'Rail-Hwy Crossings'!O63," required questions and ",'Rail-Hwy Crossings'!O67," optional questions are incomplete."),"")))),"N/A") -> N/A | D33: =IF(B33="N/A","",IF(AND('Rail-Hwy Crossings'!O63=0,'Rail-Hwy Crossings'!O67=0),D5,"")) | E33: =IF(B33="N/A","",IF(AND('Rail-Hwy Crossings'!O63=0,'Rail-Hwy Crossings'!O67=0),"",IF(AND('Rail-Hwy Crossings'!O63>0,'Rail-Hwy Crossings'!O67=0),"",IF(AND('Rail-Hwy Crossings'!O63=0,'Rail-Hwy Crossings'!O67>0),E5,"")))) | F33: =IF(B33="N/A","",IF(AND('Rail-Hwy Crossings'!O63=0,'Rail-Hwy Crossings'!O67=0),"",IF('Rail-Hwy Crossings'!O63>0,F5,"")))
B34: =IF(OR('All STP Projects'!M20="Hwy-Rail Grade Crossing",'All STP Projects'!M20="Multiple"),IF(AND('Rail-Hwy Crossings'!D51="",'Rail-Hwy Crossings'!F51="",'Rail-Hwy Crossings'!G51="",'Rail-Hwy Crossings'!H51="",'Rail-Hwy Crossings'!I51="",'Rail-Hwy Crossings'!J51=""),"You must provide at least one Grade crossing number in order to be considered for funding in this category.","You have identified at least one grade crossing to be improved by this project."),"N/A") -> N/A | D34: =IF(B34="N/A","",IF(OR('Rail-Hwy Crossings'!D51<>"",'Rail-Hwy Crossings'!F51<>"",'Rail-Hwy Crossings'!G51<>"",'Rail-Hwy Crossings'!H51<>"",'Rail-Hwy Crossings'!I51<>"",'Rail-Hwy Crossings'!J51<>""),D5,"")) | F34: =IF(B34="N/A","",IF(AND('Rail-Hwy Crossings'!D51="",'Rail-Hwy Crossings'!F51="",'Rail-Hwy Crossings'!G51="",'Rail-Hwy Crossings'!H51="",'Rail-Hwy Crossings'!I51="",'Rail-Hwy Crossings'!J51=""),F5,""))
B35: STP Shared Fund Road Expansion or Reconstruction Projects
B36: =IF(OR('All STP Projects'!M20="Road Expansion",'All STP Projects'!M20="Road Reconstruction",'All STP Projects'!M20="Multiple"),IF(AND('Road Projects'!R178=0,'Road Projects'!R182=0),"It appears that all required and optional questions on the Road Projects worksheet are complete.",IF(AND('Road Projects'!R178>0,'Road Projects'!R182=0),CONCATENATE("Please review the Road Projects worksheet. It appears that at least ",'Road Projects'!R178," required questions are incomplete."),IF(AND('Road Projects'!R178=0,'Road Projects'!R182>0),CONCATENATE("Please review the Road Projects worksheet. It appears that ",'Road Projects'!R182," optional questions may be incomplete."),IF(AND('Road Projects'!R178>0,'Road Projects'!R182>0),CONCATENATE("Please review the Road Projects worksheet. It appears that at least ",'Road Projects'!R178," required questions and ",'Road Projects'!R182," optional questions are incomplete."),"")))),"N/A") -> N/A | D36: =IF(B36="N/A","",IF(AND('Road Projects'!R178=0,'Road Projects'!R182=0),D5,"")) | E36: =IF(B36="N/A","",IF(AND('Road Projects'!R178=0,'Road Projects'!R182<>0),E5,"")) | F36: =IF(B36="N/A","",IF(AND('Road Projects'!R178<>0,'Road Projects'!R182<>0),F5,""))
B37: =IF(OR('All STP Projects'!M20="Road Expansion",'All STP Projects'!M20="Road REconstruction",'All STP Projects'!M20="Multiple"),IF(OR('Road Projects'!D59="",'Road Projects'!D60="",'Road Projects'!D61="",'Road Projects'!D62=""),"You must provide information for at least one segment in order to be considered for funding in this category.","You have provided information for at least one road segment to be improved by this project."),"N/A") -> N/A | D37: =IF(B37="N/A","",IF(OR('Road Projects'!D59<>"",'Road Projects'!D60<>"",'Road Projects'!D61<>"",'Road Projects'!D62<>""),D5,"")) | F37: =IF(B37="N/A","",IF(AND('Road Projects'!D59="",'Road Projects'!D60="",'Road Projects'!D61="",'Road Projects'!D62=""),F5,""))
B38: STP Shared Fund Corridor or Small Area Safety Projects
B39: =IF(OR('All STP Projects'!M20="Safety",'All STP Projects'!M20="Multiple"),IF(AND(Safety!U222=0,Safety!U226=0),"It appears that all required and optional questions on the Safety worksheet are complete.",IF(AND(Safety!U222>0,Safety!U226=0),CONCATENATE("Please review the Safety worksheet. It appears that at least ",Safety!U222," required questions are incomplete."),IF(AND(Safety!U222=0,Safety!U226>0),CONCATENATE("Please review the Safety worksheet. It appears that ",Safety!U226," optional questions may be incomplete."),IF(AND(Safety!U222>0,Safety!U226>0),CONCATENATE("Please review the Safety worksheet. It appears that at least ",Safety!U222," required questions and ",Safety!U226," optional questions are incomplete."),"")))),"N/A") -> N/A | D39: =IF(B39="N/A","",IF(AND(Safety!U222=0,Safety!U226=0),D5,"")) | E39: =IF(B39="N/A","",IF(AND(Safety!U222=0,Safety!U226<>0),E5,"")) | F39: =IF(B39="N/A","",IF(AND(Safety!U222<>0,Safety!U226<>0),F5,""))
B40: =IF(OR('All STP Projects'!M20="Safety",'All STP Projects'!M20="Multiple"),IF(Safety!#REF!=0,"You have not identified any safety improvements, therefore the project may be ineligible in this category.", "You have identified at least one safety improvement."),"N/A") -> N/A | D40: =IF(B40="N/A","",IF(Safety!#REF!<>0,D5,"")) | F40: =IF(B40="N/A","",IF(Safety!#REF!=0,F5,""))
B41: STP Shared Fund Transit Station, Yard, or Terminal Projects
B42: =IF(OR('All STP Projects'!M20="Transit Station, Yard, or Terminal",'All STP Projects'!M20="Multiple"),IF('Transit Projects'!X10="Use this",IF('Transit Projects'!X178="good","It appears that all required and optional questions on the Transit Projects worksheet are complete.",IF(AND('Transit Projects'!Y172>0,'Transit Projects'!Y176=0),CONCATENATE("Please review the Transit Projects worksheet. It appears that at least ",'Transit Projects'!Y172," required questions for this project type are incomplete."),IF(AND('Transit Projects'!Y172=0,'Transit Projects'!Y176>0),CONCATENATE("Please review the Transit Projects worksheet. It appears that ",'Transit Projects'!Y176," optional questions for this project types may be incomplete."),IF(AND('Transit Projects'!Y172>0,'Transit Projects'!Y176>0),CONCATENATE("Please review the Transit Projects worksheet. It appears that at least ",'Transit Projects'!Y172," required questions and ",'Transit Projects'!Y176," optional questions for this project type are incomplete."),"")))),IF('Transit Projects'!AB10="Use this",IF('Transit Projects'!AB178="good","It appears that all required and optional questions on the Transit Projects worksheet are complete.",IF(AND('Transit Projects'!AC172>0,'Transit Projects'!AC176=0),CONCATENATE("Please review the Transit Projects worksheet. It appears that at least ",'Transit Projects'!AC172," required questions for this project type are incomplete."),IF(AND('Transit Projects'!AC172=0,'Transit Projects'!AC176>0),CONCATENATE("Please review the Transit Projects worksheet. It appears that ",'Transit Projects'!AC176," optional questions for this project types may be incomplete."),IF(AND('Transit Projects'!AC172>0,'Transit Projects'!AC176>0),CONCATENATE("Please review the Transit Projects worksheet. It appears that at least ",'Transit Projects'!AC172," required questions and ",'Transit Projects'!AC176," optional questions for this project type are incomplete."),"")))))),"N/A") -> N/A | D42: =IF(B42="N/A","",IF(OR(AND('Transit Projects'!X10="Use this",'Transit Projects'!X178="good"),AND('Transit Projects'!AB10="Use this",'Transit Projects'!AB178="good")),D5,"")) | E42: =IF(B42="N/A","",IF(OR(AND('Transit Projects'!X10="Use this",'Transit Projects'!X178="okay"),AND('Transit Projects'!AB10="Use this",'Transit Projects'!AB178="okay")),E5,"")) | F42: =IF(B42="N/A","",IF(OR(AND('Transit Projects'!X10="Use this",'Transit Projects'!X178="not good"),AND('Transit Projects'!AB10="Use this",'Transit Projects'!AB178="not good")),F5,""))
B43: =IF(OR('All STP Projects'!M20="Transit Station, Yard, or Terminal",'All STP Projects'!M20="Multiple"),IF('Transit Projects'!C59="","You must provide information for at least one station, yard, or terminal component in order to be considered for funding in this category.","You have provided information for at least one station, yard, or terminal component to be improved by this project."),"N/A") -> N/A | D43: =IF(B43="N/A","",IF('Transit Projects'!C59<>"",D5,"")) | F43: =IF(B43="N/A","",IF('Transit Projects'!C59="",F5,""))
B44: =IF(OR('All STP Projects'!M20="Transit Station, Yard, or Terminal",'All STP Projects'!M20="Multiple"),IF('Transit Projects'!X63>=4,"The project may be ineligible due to the average TERM scoring being too high.", "The project appears to be eligible based on the avereage TERM score."),"N/A") -> N/A | D44: =IF(B44="N/A","",IF('Transit Projects'!X63<4,D5,"")) | F44: =IF(B44="N/A","",IF('Transit Projects'!X63>=4,F5,""))
...

Sheet Preliminary Engineering - All
C1: ALL PROJECTS
C2: Complete the questions based on the processing (IDOT or FTA).
K3: CMAP Use Only - Hide these columns
C4: Project Identification | K4: checkbox values | M4: master field names
B5: 1 | C5: TIP ID (as assigned in eTIP): | M5: CFP ID
B6: 2 | C6: Project Title (as entered in eTIP): | M6: Title
C8: Preliminary Engineering - Projects Processed Through IDOT | K8: checkbox values | M8: master field names
B9: 3 | C9: Degree of Completion for projects processed through IDOT: | D9: Pick One | M9: Hwy E1 Completion
B10: 4 | C10: For each document required to demonstrate the above, enter the file name(s) of the document(s) attached in eTIP. Requied fields will be green based on selection made above.
C11: Design approval letter/form | M11: Hwy E1 DA file
C12: PDR transmittal letter/email | M12: Hwy E1 PDR file
C13: Phase 1 Kick-off meeting minutes | M13: Hwy E1 kick-off file
C14: FHWA coordination meeting minutes | M14: Hwy E1 Coord file
C15: ESR transmittal and correspondence from IDOT BDE | M15: Hwy E1 ESR file
C16: Draft PDR transmittal cover or letter/email | M16: Hwy E1 draft PDR file
C17: Appropriate section(s) of draft PDR including documentation of investigations, coordination, and commitments | M17: Hwy E1 PDR sects file
C18: Appropriate documentation (forms and/or emails) demonstrating completion of a PEL and that there are no further comments (Required only for projects undergoing a PEL prior to Phase 1) | M18: Hwy E1 PEL file
C19: Describe any unusual circumstances that should be considered when determining the degree of completion of preliminary engineering. | M19: Hwy E1 Unusual
C21: Preliminary Engineering - Projects Processed Through FTA | K21: checkbox values | M21: master field names
B22: 5 | C22: Degree of Completion for projects processed through FTA: | D22: Pick One | M22: Transit E1 Completion
C23: Project qualifies as a "C-List" Categorical Exclusion (CE) | D23: Yes/No | M23: Transit E1 C-List
C24: Project qualifies as a "D-List" Categorical Exclusion (CE) | D24: Yes/No | M24: Transit E1 D-List
B25: 6 | C25: For each document required to demonstrate the above, enter the file name(s) of the document(s) attached in eTIP. Requied fields will be green based on selection made above.
C26: ROD or FONSI Signature page(s) | M26: Transit E1 ROD file
C27: CE documentation | M27: Transit E1 CE file
C28: Announcement that draft EIS or EA was available for public review | M28: Transit E1 Public file
C29: Documentation that all environmental studies are complete | M29: Transit E1 Studies file
C30: Documentation to demonstrate that preliminary engineering is underway (see application booklet) | M30: Transit E1 underway file
C31: Describe any unusual circumstances that should be considered when determining the degree of completion of preliminary engineering. | M31: Transit E1 Unusual
B34: THIS WORKSHEET ENDS HERE

Sheet All STP Projects
C1: STP Shared Fund - ALL Project Types
C2: Complete the questions.
M3: CMAP Use Only - Hide these columns
C4: Project Identification | M4: checkbox values | O4: master field names
B5: 1 | C5: TIP ID (as assigned in eTIP): | O5: CFP ID
B6: 2 | C6: Project Title (as entered in eTIP): | O6: Title
C8: Eligibility
B9: 3 | C9: Number of local partners participating in the project: | D9: Pick One | O9: # Partners
C10: If more than one partner, provide a list of partners and briefly explain how each is participating financially in the project: | O10: Partners
B11: 4 | C11: Is the project identified in an approved or adopted plan? | D11: Yes/No | O11: Project in plan
C12: Is the project type supported in an approved or adopted plan? | D12: Yes/No | O12: Type in plan
C13: Provide a link to the plan document (if the document is not available online, enter "see eTIP" and the file name of the document attached (pdf or Word format only) to the eTIP application. | O13: Plan link/name
C14: On what page(s) of the plan can the project be found or referenced? | O14: Plan page ref
C16: Sponsor/Implementer Relationship
B17: 5 | C17: Will this project be implemented by an agency that is not the sponsor, such as IDOT, the county DOT or a transit agency? | D17: Yes/No | O17: Other implementer
C18: If implementation will be by another agency, describe the implementing agency's commitment to implementing the project according to the schedule proposed in this application. Attach any evidence (such as a Letter of Intent or budget document that includes the project) in eTIP, and provide the name of the file attachment here: | O18: Imp agency commitment
C19: If implementation will be by another agency, provide the agency name and the name, phone number, and email address of a contact at that agency that can verify the agency's commitment to implementing the project according to the STP shared fund Active Program Management policies: | O19: Imp agency contact
M20: =IF(COUNTIF(M22:N26,"True")>1,"Multiple", IF(M22=TRUE,"Bike/Ped Barrier Elimination",IF(M23=TRUE,"Bus Speed Improvements",IF(M24=TRUE,"Hwy-Rail Grade Crossing",IF(M25=TRUE,"Road Reconstruction",IF(M26=TRUE,"Truck Route Improvements",IF(N22=TRUE,"Bridge",IF(N23=TRUE,"Safety",IF(N24=TRUE,"Road Expansion",IF(N25=TRUE,"Transit Station, Yard, or Terminal","N/A")))))))))) -> N/A
C21: STP Shared Fund Project Type(s)
B22: 6 | C22: Select the project type(s) for this application. Projects will be considered in multiple categories only if there is both an appropriate need and improvement shown in those categories: | E22: Bicycle and Pedestrian Barrier Elimination | H22: Bridge Rehab or Reconstruction | M22: FALSE | N22: FALSE | O22: Type: Barrier | P22: Type: Bridge
E23: Bus Speed Improvements | H23: Corridor or Small Area Safety | M23: FALSE | N23: FALSE | O23: Type: Bus | P23: Type: Safety
E24: Highway/Rail Grade Crossing Improvements | H24: Road Expansion | M24: FALSE | N24: FALSE | O24: Type: Rail | P24: Type: Expansion
E25: Road Reconstruction | H25: Transit Station, Yard or Terminal Improvements (including bike/ped access) | M25: FALSE | N25: FALSE | O25: Type: Recon | P25: Type: Transit
E26: Truck Route Improvements | M26: FALSE | O26: Type: Truck
C28: Minimum Acceptable Funding
D29: Projects processed by IDOT/FHWA | I29: Projects processed by FTA
D30: ENG1 | E30: ENG2 | F30: ROW | G30: CON | H30: CE | I30: ENG | J30: IMP | K30: CON
B31: 7 | C31: Enter the full amount of requested funds in whole dollars, as shown in eTIP, by phase. Enter "0" if no funds are requested for the phase: | O31: <phase> full
C32: Is the sponsor willing to accept partial funding for any phase(s)? | D32: Yes/No | O32: maf
C33: If yes, enter the minimum amount of STP shared funds the sponsor is willing to accept, by phase: | O33: <phase> min accept
B34: 8 | C34: By providing a minimum acceptable funding amount, the project sponsor(s) acknowledges and agrees to the following. If any point is not agreed to or any requested data is not provided in this section only the full amount of requested funding will be considered during program development.
C35: The sponsor has local or other funds available to fill the funding gap? | D35: Yes/No | O35: maf: have gap
C36: If yes, enter the source(s) of funds (e.g. MFT, Rebuild Illinois, etc.) that will be used in lieu of STP to fill the gap, by phase: | D36: ENG1 | E36: ENG2 | F36: ROW | G36: CON | H36: CE | I36: ENG | J36: IMP | K36: CON
O37: <phase> maf source
C38: If the above source of funds is "STP-L" from the local council/CDOT, enter the Federal Fiscal Year in which STP-L funds are currently programmed, by phase: | O38: <phase> maf stp-l yr
C39: No additional STP shared funds will be awarded under any active reprogramming actions allowed by Active Program Management policies for projects or project phases programmed at less than the full amount requested, however sponsors may apply for additional funds in future calls for projects, but any STP shared funds already programmed will not be considered as "committed" funds during future calls. Check box to indicate agreement. | M39: FALSE | O39: maf: no addl
C40: Projects funded at less than the fully requested funding amount will not be automatically "made whole". The sponsor is accepting a set percentage share of STP shared funds. That percentage will be held constant if the cost of the project/project phase changes. Check box to indicate agreement. | M40: FALSE | O40: maf: pct constant
C41: Financial commitment points for this application will be calculated based on the full requested amount of STP shared funds. These points will not be recalculated if a project is funded at less than the fully requested amount. Check box to indicate agreement. | M41: FALSE | O41: maf: fin commit
O43: Blank required fill-ins: | P43: =COUNTIF(D5:D6,"")+COUNTIF(D13:D14,"") -> 4
B44: THIS WORKSHEET ENDS HERE | O44: Missing drop-downs: | P44: =COUNTIF(D9,"Pick one")+COUNTIF(D11:D32,"Yes/No") -> 5
...

Sheet Bicycle Facility Projects
C1: CMAQ and TAP Bicycle Facility Projects
C2: Complete the questions.
J3: CMAP Use Only - Hide these columns
C4: Project Identification | J4: checkbox values | L4: master field names | O4: missing | P4: r/o | Q4: t/dd
B5: 1 | C5: TIP ID (as assigned in eTIP): | L5: CFP ID | O5: =IF(D5="",1,0) -> 1 | P5: r | Q5: t
B6: 2 | C6: Project Title (as entered in eTIP): | L6: Title | O6: =IF(D6="",1,0) -> 1 | P6: r | Q6: t
C8: Project Information
B9: 3 | C9: Indicate the current status of the bicycle environment where the proposed facility will be constructed. Are bike lanes present? If so, give width. | L9: Bike Env | O9: =IF(D9="",1,0) -> 1 | P9: r | Q9: t
B10: 4 | C10: Indicate the connectivity of bikeways resulting from the project: | D10: Pick One | L10: Bike Connect | O10: =IF(D10="Pick One",1,0) -> 1 | P10: r | Q10: d
B11: 5 | C11: Describe how the proposed bicycle facility integrates with transit service | L11: Bike-Transit | O11: =IF(D11="",1,0) -> 1 | P11: r | Q11: t
B12: 6 | C12: Provide the following for the road(s) of the facility or adjoining to the off-road facility (use separate columns for multiple roads and provide road name). For more than 4 segments, check here and go to the Additional Information worksheet to add more segments. | D12: Road Segment 1 | E12: Road Segment 2 | F12: Road Segment 3 | G12: Road Segment 4 | J12: FALSE | L12: Bike-More Segs
C14: Road Segment Name: | L14: <Seg #> Name | O14: =IF(D14="",1,0) -> 1 | P14: r | Q14: t
C15: Traffic volumes (AADT): | L15: <Seg #> AADT | O15: =IF(D15="",1,0) -> 1 | P15: r | Q15: t
C16: # of Thru Lanes: | L16: <Seg #> Lanes | O16: =IF(D16="",1,0) -> 1 | P16: r | Q16: t
C17: Lane Width (ft): | L17: <Seg #> Width | O17: =IF(D17="",1,0) -> 1 | P17: r | Q17: t
C18: Width of Outside Paved Shoulder (ft): | L18: <Seg #> Shoulder | O18: =IF(D18="",1,0) -> 1 | P18: r | Q18: t
C19: Speed Limit (mph): | L19: <Seg #> Speed | O19: =IF(D19="",1,0) -> 1 | P19: r | Q19: t
B20: 7 | C20: Is the project identified in an approved or adopted plan? | D20: Yes/No | L20: In plan | O20: =IF(D20="yes/no",1,0) -> 1 | P20: r | Q20: d
B21: 8 | C21: Provide a web link to the plan document: | L21: Plan link | O21: =IF(D21="",1,0) -> 1 | P21: o | Q21: t
B22: 9 | C22: On what page(s) of the plan can the project be found or referenced? | L22: Plan page | O22: =IF(D22="",1,0) -> 1 | P22: o | Q22: t
C24: Additional Information | L24: Long Desc | O24: =IF(D25="",1,0) -> 1 | P24: o | Q24: t
B25: 10 | C25: Project Description (provide additional details on the project): Use this space to provide additional description not entered in eTIP, or to indicate the file name of any narrative that is attached in eTIP.
B28: THIS WORKSHEET ENDS HERE | O28: Row Labels | P28: Sum of missing
O29: o | P29: 4
O30: t | P30: 4
O31: r | P31: 13
O32: d | P32: 2
O33: t | P33: 11
O34: (blank)
O35: (blank)
O36: Grand Total | P36: 17
O40: Blank required fill-ins: | P40: =SUM(O5:O6,O9,O11,O14:O19) -> 10
O41: Missing drop-downs: | P41: =SUM(O10,O20) -> 2
P42: =SUM(P40:P41) -> 12
O44: Missing opt fill-ins: | P44: =SUM(O24,O21,O22) -> 3
P45: =SUM(P44:P44) -> 3

Sheet Bike Ped Barrier Elimination
C1: STP Shared Fund Bicycle and Pedestrian Barrier Elimination Projects
C2: Complete the questions.
L3: CMAP Use Only - Hide these columns
C4: Project Identification | L4: checkbox values | N4: master field names | Q4: missing | R4: r/o | S4: t/dd
B5: 1 | C5: TIP ID (as assigned in eTIP): | N5: CFP ID | Q5: =IF(D5="",1,0) -> 1 | R5: r | S5: t
B6: 2 | C6: Project Title (as entered in eTIP): | N6: Title | Q6: =IF(D6="",1,0) -> 1 | R6: r | S6: t
C8: Resilience Planning Factor
B9: 3 | C9: Is the project on the TRIP priority project list? | D9: Yes/No | N9: TRIP | Q9: =IF(D9="Yes/No",1,0) -> 1 | R9: r | S9: dd
C10: If yes, please enter the project ID and name as specified on Table 9 or Table 10. | N10: Priority ID/Name | Q10: =IF(D10="",1,0) -> 1 | R10: o | S10: t
B11: 4 | C11: What is the level of vulnerability at this location? Please enter the highest asset exposure score within the project boundary. Asset exposure scores can be obtained from the TRIP Risk-based Vulnerability Assessment Data Viewer (link below). Project sponsors can provide their own climate hazard exposure information to be considered where data does not exist or if the TRIP score deviates from known events. | N11: Vulnerability | Q11: =IF(D11="",1,0) -> 1 | R11: o | S11: t
C12: https://cmapgis.maps.arcgis.com/apps/mapviewer/index.html?webmap=08a4d59480b14660ad9f375306677ee9
B13: 5 | C13: Does the project incorporate resilience elements? (If yes, answer the following questions detailing the resilience elements.) | D13: Yes/No | N13: Project Impact | Q13: =IF(D13="Yes/No",1,0) -> 1 | R13: r | S13: dd
C14: To what extent does the project protect transportation assets from extreme weather events and climate hazards? Please describe the resilience elements featured in the project and how they will mitigate the vulnerability. | N14: Risk Mitigation | Q14: =IF(D14="",1,0) -> 1 | R14: o | S14: t
C15: How well does the project integrate green or gray infrastructure solutions for long-term resilience? Please specify if the project includes nature-based solutions, structural solutions, or both. | N15: Nature-Structtural | Q15: =IF(D15="",1,0) -> 1 | R15: o | S15: t
C16: Does the project modernize assets to reflect or go beyond standard design requirements to build resilience and future climate adaptation? If yes, please specify how the project will exceed design standards. | N16: Modernization | Q16: =IF(D16="",1,0) -> 1 | R16: o | S16: t
C17: Does the project provide additional co-benefits beyond resilience, such as improvements in air quality, water quality, or ecosystem health? If yes, please specify the co-benefits provided by the project. | N17: Environmental Benefits | Q17: =IF(D17="",1,0) -> 1 | R17: o | S17: t
C19: Universal Mobility Planning Factor
B20: 6 | C20: Select all of the design elements that are included in this project application and provide the quantity or centerline mile length. | E20: Quantity or Centerline Miles | H20: Type
C21: Completes bike/ped gap to key destination (essential services, medical, grocery, school, etc.) (areas considered as urban districts) | H21: quantity | L21: FALSE | N21: UM BP Gap Urban
C22: Completes bike/ped gap to key destination (essential services, medical, grocery, school, etc.) (areas that are not considered as urban districts) | H22: quantity | L22: FALSE | N22: UM BP Gap Other
C23: Connects accessible transit boarding pads to sidewalk network | H23: quantity | L23: FALSE | N23: UM Access Transit
C24: Constructs curb/barrier protected or elevated bike lane | H24: linear | L24: FALSE | N24: UM Protect Bike
C25: Constructs multi-use path | H25: linear | L25: FALSE | N25: UM Multi-Use
C26: Constructs one lane roundabout/mini roundabout with multimodal facilities | H26: quantity | L26: FALSE | N26: UM Mini RB
C27: Constructs new sidewalks (4’) on both sides of the road | H27: linear | L27: FALSE | N27: UM New SW Both
C28: Constructs new sidewalks (4’) on one side of the road | H28: linear | L28: FALSE | N28: UM New SW One
C29: Implements accessible pedestrian signals (APS) | H29: quantity | L29: FALSE | N29: UM Acess Ped Signal
C30: Implements protected intersection | H30: quantity | L30: FALSE | N30: UM Protect Inter
C31: Implements marked/striped bike lane (both sides) | H31: linear | L31: FALSE | N31: UM Striped Bike
C32: Implements speed reduction in locations with activity generators (essential services, medical, grocery, school, etc.) | H32: binary | L32: FALSE | N32: UM Speed Reduction
... C44: Installs detectable warning surfaces/directional indicators leading to a crosswalk | H44: binary | L44: FALSE | N44: UM Detect Surf
C45: Other - write-ins subject to CMAP approval | L45: FALSE | N45: UM Other
C47: All Barriers
B48: 7 | C48: Is the project mapped accurately in eTIP? | D48: Yes/No | N48: eTIP map | Q48: =IF(D48="Yes/No",1,0) -> 1 | R48: r | S48: dd
C49: If no, list the file name of the location map attached in eTIP and briefly describe the location here: | N49: map file | Q49: =IF(D49="",1,0) -> 1 | R49: o | S49: t
B50: 8 | C50: List any public or private schools (serving students in grades K-12) within 1 mile of the project location. If none, enter "none": | N50: schools | Q50: =IF(D50="",1,0) -> 1 | R50: r | S50: t
B51: 9 | C51: Select the Regional Greenways and Trails Plan (RGTP) connectivity: | D51: Pick One | N51: RGTP connect | Q51: =IF(D51="Pick One",1,0) -> 1 | R51: r | S51: dd
C52: List the regional trail(s) applicable to the above selection: | N52: RGTP trails | Q52: =IF(D52="",1,0) -> 1 | R52: o | S52: t
C54: Railroad Barriers Only
B55: 10 | C55: List the train line(s) that will be crossed: | N55: train lines | Q55: =IF(D55="",1,0) -> 1 | R55: o | S55: t
...

Sheet Bridge Projects
C1: STP Shared Fund Bridge Rehabilitation or Reconstruction Projects
C2: Complete the questions.
L3: CMAP Use Only - Hide these columns
C4: Project Identification | L4: checkbox values | N4: master field names | Q4: missing | R4: r/o | S4: t/dd
B5: 1 | C5: TIP ID (as assigned in eTIP): | N5: CFP ID | Q5: =IF(D5="",1,"0") -> 1 | R5: r | S5: t
B6: 2 | C6: Project Title (as entered in eTIP): | N6: Title | Q6: =IF(D6="",1,"0") -> 1 | R6: r | S6: t
C8: Universal Mobility Planning Factor
B9: 3 | C9: Select all of the design elements that are included in this project application and provide the quantity or centerline mile length. | E9: Quantity or Centerline Miles | G9: Type
C10: Completes bike/ped gap to key destination (essential services, medical, grocery, school, etc.) (areas considered as urban districts) | G10: quantity | L10: FALSE | N10: UM BP Gap Urban
C11: Completes bike/ped gap to key destination (essential services, medical, grocery, school, etc.) (areas that are not considered as urban districts) | G11: quantity | L11: FALSE | N11: UM BP Gap Other
C12: Connects accessible transit boarding pads to sidewalk network | G12: quantity | L12: FALSE | N12: UM Access Transit
C13: Constructs curb/barrier protected or elevated bike lane | G13: linear | L13: FALSE | N13: UM Protect Bike
C14: Constructs multi-use path | G14: linear | L14: FALSE | N14: UM Multi-Use
C15: Constructs one lane roundabout/mini roundabout with multimodal facilities | G15: quantity | L15: FALSE | N15: UM Mini RB
C16: Constructs new sidewalks (4’) on both sides of the road | G16: linear | L16: FALSE | N16: UM New SW Both
C17: Constructs new sidewalks (4’) on one side of the road | G17: linear | L17: FALSE | N17: UM New SW One
C18: Implements accessible pedestrian signals (APS) | G18: quantity | L18: FALSE | N18: UM Acess Ped Signal
C19: Implements protected intersection | G19: quantity | L19: FALSE | N19: UM Protect Inter
C20: Implements marked/striped bike lane (both sides) | G20: linear | L20: FALSE | N20: UM Striped Bike
C21: Implements speed reduction in locations with activity generators (essential services, medical, grocery, school, etc.) | G21: binary | L21: FALSE | N21: UM Speed Reduction
... C33: Installs detectable warning surfaces/directional indicators leading to a crosswalk | G33: binary | L33: FALSE | N33: UM Detect Surf
C34: Other - write-ins subject to CMAP approval | L34: FALSE | N34: UM Other
C36: Freight Planning Factor
B37: 4 | C37: Sponsor/local jurisdiction has an online truck permitting program? | D37: Yes/No | N37: Truck permitting | Q37: =IF(D37="Yes/No",1,0) -> 1 | R37: r | S37: d
C38: If yes, please provide a link to the web page: | N38: Truck perm link | Q38: =IF(D38="",1,"0") -> 1 | R38: o | S38: t
C39: Sponsor/local jurisdiction has one or more delivery management policies? | D39: Yes/No | N39: delivery policy | Q39: =IF(D39="Yes/No",1,0) -> 1 | R39: r | S39: d
C40: If yes, please provide a link to the policies (if the document is not available online, enter "see eTIP" and the file name of the document attached (pdf or Word format only) to the eTIP application): | N40: delivery pol link | Q40: =IF(D40="",1,"0") -> 1 | R40: o | S40: t
C41: Sponsor has completed/participated in a truck routing study? | D41: Yes/No | N41: routing study | Q41: =IF(D41="Yes/No",1,0) -> 1 | R41: r | S41: d
C42: If yes, please provide a link to the study results (if not available online, enter "see eTIP" and the file name of the document attached (pdf or Word format only) to the eTIP application): | N42: routing link | Q42: =IF(D42="",1,"0") -> 1 | R42: o | S42: t
C43: Sponsor has completed a systematic review of truck restrictions within their jurisdiction? | D43: Yes/No | N43: restrictions review | Q43: =IF(D43="Yes/No",1,0) -> 1 | R43: r | S43: d
C44: If yes, please provide a link to the review results (if not available online, enter "see eTIP" and the file name of the document attached (pdf or Word format only) to the eTIP application): | N44: restrictions link | Q44: =IF(D44="",1,"0") -> 1 | R44: o | S44: t
C45: The project is identified in a local, county, or regional freight mobility plan? | D45: Yes/No | N45: freight plan | Q45: =IF(D45="Yes/No",1,0) -> 1 | R45: r | S45: d
C46: If yes, please provide a link to the plan (if not available online, enter "see eTIP" and the file name of the document attached (pdf or Word format only) to the eTIP application): | N46: freight plan link | Q46: =IF(D46="",1,"0") -> 1 | R46: o | S46: t
C47: Have you submitted a Class I or Class II Truck Route designation request to IDOT within the last two years? | D47: Yes/No | N47: new tk rte des | Q47: =IF(D47="Yes/No",1,0) -> 1 | R47: r | S47: d
C48: If yes, please attach a copy of the request and/or IDOT's response in eTIP, and indicate the file name of the document attached (pdf or Word format only) to the eTIP application: | N48: tk rte des file | Q48: =IF(D48="",1,"0") -> 1 | R48: o | S48: t
C50: Structure Information and Project Scope
B51: 5 | C51: For each individual structure that is included in the project, provide the following. For projects involving more than 6 structures, check here and go to the Additional Information worksheet to add more structures. | D51: Structure 1 | E51: Structure 2 | F51: Structure 3 | G51: Structure 4 | H51: Structure 5 | I51: Structure 6 | L51: FALSE | N51: More structures
C53: NBI Structure Number: | M53: <St#> | N53: Structure | Q53: =IF(D53="",1,"0") -> 1 | R53: r | S53: t | T53: Ave suff
C54: NBI Sufficiency Rating (see application booklet for web link): | M54: <St#> | N54: Sufficiency | Q54: =IF(D54="",1,"0") -> 1 | R54: r | S54: t | T54: =IFERROR(IF(L51=TRUE,AVERAGE('Additional Information'!D16:I16,'Bridge Projects'!D54:I54),AVERAGE(D54:I54)),0) -> 0
C55: If there is no sufficiency rating listed, has an inspection been completed within the last 5 years? If yes, attach a copy of the inspection report in eTIP. | D55: Yes/No | E55: Yes/No | F55: Yes/No | G55: Yes/No | H55: Yes/No | I55: Yes/No | M55: <St#> | N55: Insp Rep | Q55: =IF(D55="Yes/No",1,0) -> 1 | R55: o | S55: d
...

Sheet Demonstration Projects
C1: CMAQ Demonstration Projects
C2: Contact CMAP staff before submitting a demonstration project.
K3: CMAP Use Only - Hide these columns
C4: Project Identification | K4: checkbox values | M4: master field names | P4: missing | Q4: r/o | R4: t/dd
